BEGIN:VCALENDAR
VERSION:2.0
PRODID:-//Veža Lietuva Anglija - ECPv5.7.0//NONSGML v1.0//EN
CALSCALE:GREGORIAN
METHOD:PUBLISH
X-WR-CALNAME:Veža Lietuva Anglija
X-ORIGINAL-URL:https://anglijalietuva.eu
X-WR-CALDESC:Veža Lietuva Anglija renginiai
BEGIN:VTIMEZONE
TZID:UTC
BEGIN:STANDARD
TZOFFSETFROM:+0000
TZOFFSETTO:+0000
TZNAME:UTC
DTSTART:20260101T000000
END:STANDARD
END:VTIMEZONE
BEGIN:VEVENT
DTSTART;VALUE=DATE:20260501
DTEND;VALUE=DATE:20260502
DTSTAMP:20260421T125904
CREATED:20151203T190536Z
LAST-MODIFIED:20260415T074952Z
UID:751-1777593600-1777679999@anglijalietuva.eu
SUMMARY:Lietuva-Anglija
DESCRIPTION:Vežame iš Lietuvos į Anglija mikroautobusais keleivius\, siuntinius\, gyvūnus.
URL:https://anglijalietuva.eu/event/lietuva-anglija/
END:VEVENT
END:VCALENDAR