BEGIN:VCALENDAR
VERSION:2.0
PRODID:-//Veža Lietuva Anglija - ECPv5.7.0//NONSGML v1.0//EN
CALSCALE:GREGORIAN
METHOD:PUBLISH
X-WR-CALNAME:Veža Lietuva Anglija
X-ORIGINAL-URL:https://anglijalietuva.eu
X-WR-CALDESC:Veža Lietuva Anglija renginiai
BEGIN:VTIMEZONE
TZID:UTC
BEGIN:STANDARD
TZOFFSETFROM:+0000
TZOFFSETTO:+0000
TZNAME:UTC
DTSTART:20260101T000000
END:STANDARD
END:VTIMEZONE
BEGIN:VEVENT
DTSTART;VALUE=DATE:20260429
DTEND;VALUE=DATE:20260430
DTSTAMP:20260421T112335
CREATED:20151208T063640Z
LAST-MODIFIED:20260415T074922Z
UID:808-1777420800-1777507199@anglijalietuva.eu
SUMMARY:Lietuva-Anglija
DESCRIPTION:Vežame iš Lietuvos į Anglija mikroautobusais keleivius\, siuntinius\, gyvūnus.
URL:https://anglijalietuva.eu/event/lietuva-anglija-4/
END:VEVENT
END:VCALENDAR