BEGIN:VCALENDAR
VERSION:2.0
PRODID:-//Veža Lietuva Anglija - ECPv5.7.0//NONSGML v1.0//EN
CALSCALE:GREGORIAN
METHOD:PUBLISH
X-WR-CALNAME:Veža Lietuva Anglija
X-ORIGINAL-URL:https://anglijalietuva.eu
X-WR-CALDESC:Veža Lietuva Anglija renginiai
BEGIN:VTIMEZONE
TZID:UTC
BEGIN:STANDARD
TZOFFSETFROM:+0000
TZOFFSETTO:+0000
TZNAME:UTC
DTSTART:20260101T000000
END:STANDARD
END:VTIMEZONE
BEGIN:VEVENT
DTSTART;VALUE=DATE:20260501
DTEND;VALUE=DATE:20260502
DTSTAMP:20260421T133104
CREATED:20160110T063403Z
LAST-MODIFIED:20260415T075007Z
UID:806-1777593600-1777679999@anglijalietuva.eu
SUMMARY:Anglija-Lietuva
DESCRIPTION:Vežame iš Anglijos į Lietuva mikroautobusais keleivius\, siuntinius\, gyvūnus.
URL:https://anglijalietuva.eu/event/anglija-lietuva-6/
END:VEVENT
END:VCALENDAR