BEGIN:VCALENDAR
VERSION:2.0
PRODID:-//Veža Lietuva Anglija - ECPv5.7.0//NONSGML v1.0//EN
CALSCALE:GREGORIAN
METHOD:PUBLISH
X-WR-CALNAME:Veža Lietuva Anglija
X-ORIGINAL-URL:https://anglijalietuva.eu
X-WR-CALDESC:Veža Lietuva Anglija renginiai
BEGIN:VTIMEZONE
TZID:UTC
BEGIN:STANDARD
TZOFFSETFROM:+0000
TZOFFSETTO:+0000
TZNAME:UTC
DTSTART:20260101T000000
END:STANDARD
END:VTIMEZONE
BEGIN:VEVENT
DTSTART;VALUE=DATE:20260417
DTEND;VALUE=DATE:20260418
DTSTAMP:20260421T151800
CREATED:20151208T063239Z
LAST-MODIFIED:20260408T045017Z
UID:804-1776384000-1776470399@anglijalietuva.eu
SUMMARY:Anglija-Lietuva
DESCRIPTION:Vežame iš Anglijos į Lietuva mikroautobusais keleivius\, siuntinius\, gyvūnus.
URL:https://anglijalietuva.eu/event/anglija-lietuva-4/
END:VEVENT
END:VCALENDAR